<PAMDataset><SRS>GEOGCS["GCS_WGS_1984",DATUM["D_WGS_1984",SPHEROID["WGS_1984",6378137,298.257223563]],PRIMEM["Greenwich",0],UNIT["Degree",0.017453292519943295]]</SRS><GeoTransform> -8.4445735738498982e+01,  1.5667997785512099e-06,  0.0000000000000000e+00,  4.0207227952452861e+01,  0.0000000000000000e+00, -1.5667997785512099e-06</GeoTransform></PAMDataset>